BEGIN:VCALENDAR
VERSION:2.0
PRODID:-//chikkutakku.com//RDFCal 1.0//EN
X-WR-CALDESC:GoogleカレンダーやiCalendar形式情報を共有シェ
 アしましょう。近所のイベントから全国のイベントま
 で今日のイベント検索やスケジュールを決めるならち
 っくたっく
X-WR-CALNAME:ちっくたっく
X-WR-TIMEZONE:UTC
BEGIN:VEVENT
SUMMARY:門前町いちろく市
DTSTART;VALUE=DATE-TIME:20260515T150000Z
DTEND;VALUE=DATE-TIME:20260515T150000Z
UID:353039416970
DESCRIPTION:西本願寺正面の門前町を少し進んだところに
 ある明治建築「西本願寺伝道院」の周辺を会場にした
 手づくり市。手づくり品のほか、手づくりのお菓子、
 農家直送の新鮮な野菜などが並びます。すぐ近くの龍
 谷ミュージアムの敷地も会場となります。お寺の門前
 町ならではの雰囲気とともに楽しめるイベントです。
 毎月16日開催。\n\nhttp://kakuroku-design.wixsite.com/orinchan0409/re
 sume
LOCATION:日本京都府京都市下京区紅葉町
END:VEVENT
END:VCALENDAR
