BEGIN:VCALENDAR
VERSION:2.0
PRODID:-//chikkutakku.com//RDFCal 1.0//EN
X-WR-CALDESC:GoogleカレンダーやiCalendar形式情報を共有シェ
 アしましょう。近所のイベントから全国のイベントま
 で今日のイベント検索やスケジュールを決めるならち
 っくたっく
X-WR-CALNAME:ちっくたっく
X-WR-TIMEZONE:UTC
BEGIN:VEVENT
SUMMARY:平塚工科高等学校環境化学系３年生
DTSTART;VALUE=DATE-TIME:20260421T001500Z
DTEND;VALUE=DATE-TIME:20260421T021500Z
UID:353755577622
DESCRIPTION:参加予定人数　３０名\n小雨決行（荒天中止）
 \n参加対象　学校・社内行事
LOCATION:平塚市　虹ケ浜
END:VEVENT
END:VCALENDAR
