BEGIN:VCALENDAR
VERSION:2.0
PRODID:-//chikkutakku.com//RDFCal 1.0//EN
X-WR-CALDESC:GoogleカレンダーやiCalendar形式情報を共有シェ
 アしましょう。近所のイベントから全国のイベントま
 で今日のイベント検索やスケジュールを決めるならち
 っくたっく
X-WR-CALNAME:ちっくたっく
X-WR-TIMEZONE:UTC
BEGIN:VEVENT
SUMMARY:2027年版 ユーキャンの介護福祉士 本書で一発合格
 ！ よくわかる！過去問題集
DTSTART;VALUE=DATE:20260423
DTEND;VALUE=DATE:20260424
UID:360053088382
DESCRIPTION:2026-04-242027年版 ユーキャンの介護福祉士 本書
 で一発合格！ よくわかる！過去問題集ユーキャン介護
 福祉士試験研究会ユーキャン学び出版
LOCATION:
END:VEVENT
END:VCALENDAR
