BEGIN:VCALENDAR
VERSION:2.0
PRODID:-//chikkutakku.com//RDFCal 1.0//EN
X-WR-CALDESC:GoogleカレンダーやiCalendar形式情報を共有シェ
 アしましょう。近所のイベントから全国のイベントま
 で今日のイベント検索やスケジュールを決めるならち
 っくたっく
X-WR-CALNAME:ちっくたっく
X-WR-TIMEZONE:UTC
BEGIN:VEVENT
SUMMARY:悲劇の元凶となる最強外道ラスボス女王は民の為
 に尽くします。(2) #3 「～暴虐王女と真実～」
DTSTART;VALUE=DATE-TIME:20260421T130000Z
DTEND;VALUE=DATE-TIME:20260421T133000Z
UID:360584435167
DESCRIPTION:3 / ～暴虐王女と真実～ / 
LOCATION:TOKYO MX
END:VEVENT
END:VCALENDAR
