BEGIN:VCALENDAR
VERSION:2.0
PRODID:-//chikkutakku.com//RDFCal 1.0//EN
X-WR-CALDESC:GoogleカレンダーやiCalendar形式情報を共有シェ
 アしましょう。近所のイベントから全国のイベントま
 で今日のイベント検索やスケジュールを決めるならち
 っくたっく
X-WR-CALNAME:ちっくたっく
X-WR-TIMEZONE:UTC
BEGIN:VEVENT
SUMMARY:【Android 対応】◆初心者歓迎◆寝る前にあそび隊
 【ゲムワ巡り】
DTSTART;VALUE=DATE-TIME:20260424T130000Z
DTEND;VALUE=DATE-TIME:20260424T145900Z
UID:368101650893
DESCRIPTION:【イベント主催者】\n　NanimoRey\n【イベント内
 容】\n　寝る前に、ゲムワで一緒に遊びませんか？\n「
 寝る前にあそび隊」はその名の通り、寝る前に遊びた
 いという気持ちから生まれたイベントです！詳細なル
 ールなどはイベント告知用X、グループのルール欄をご
 確認ください。\n【イベントジャンル】\n　その他交流
 会\, 初心者向けイベント\, 定期イベント\n【参加条件（
 モデル、人数制限など）】\n　VRでゲームワールドで遊
 んでみたいと思う方！最大参加可能人数１２人です！\n
 【参加方法】\n　「寝る前にあそび隊」のグループ（NER
 UMA.3938）に参加、イベント当日２２時にグループインス
 タンスへjoin！\n【備考】\n　Price Guess\nProp Hunt\n・VR専用
 のイベントです\n・迷惑行為の禁止\n・ゲームワールド
 の勝手なルール変更\n状況に応じてスタッフより注意を
 行います。改善が見られない場合は、キック対応とな
 る場合があります。ルールを守ってみんなで楽しく遊
 びましょう！ \n※参加人数や状況によって変更する場
 合があります。
LOCATION:
END:VEVENT
END:VCALENDAR
