BEGIN:VCALENDAR
VERSION:2.0
PRODID:-//chikkutakku.com//RDFCal 1.0//EN
X-WR-CALDESC:GoogleカレンダーやiCalendar形式情報を共有シェ
 アしましょう。近所のイベントから全国のイベントま
 で今日のイベント検索やスケジュールを決めるならち
 っくたっく
X-WR-CALNAME:ちっくたっく
X-WR-TIMEZONE:UTC
BEGIN:VEVENT
SUMMARY:【注】響け！ユーフォニアム2 #1 まなつのファン
 ファーレ / #2 とまどいフルート / #3 なやめるノクター
 ン / #4 めざめるオーボエ / #5 きせきのハーモニー / #6 
 あめふりコンダクター / #7 えきびるコンサート / #8 か
 ぜひきラプソディー / #9 ひびけ！ユーフォニアム / #10 
 ほうかごオブリガート / #11 はつこいトランペット / #12 
 さいごのコンクール / #13 はるさきエピローグ
DTSTART;VALUE=DATE-TIME:20260424T230000Z
DTEND;VALUE=DATE-TIME:20260425T060000Z
UID:369051459118
DESCRIPTION: / #1 まなつのファンファーレ / #2 とまどいフ
 ルート / #3 なやめるノクターン / #4 めざめるオーボエ /
  #5 きせきのハーモニー / #6 あめふりコンダクター / #7 
 えきびるコンサート / #8 かぜひきラプソディー / #9 ひ
 びけ！ユーフォニアム / #10 ほうかごオブリガート / #11 
 はつこいトランペット / #12 さいごのコンクール / #13 は
 るさきエピローグ / ([[アニメSPECIAL https://abema.tv/timetable/
 channels/special-plus-7]]) https://abema.tv/channels/special-plus-7/slots/
 EvABNSF8i7s4TZ リピート放送は 4/26(日) 5:15～ https://abema.tv/ch
 annels/special-plus-7/slots/EvABRUDWoaYc6B (無料TS1週間) https://prtim
 es.jp/main/html/rd/p/000003116.000064643.html
LOCATION:ABEMA特設その他
END:VEVENT
END:VCALENDAR
