BEGIN:VCALENDAR
VERSION:2.0
PRODID:-//chikkutakku.com//RDFCal 1.0//EN
X-WR-CALDESC:GoogleカレンダーやiCalendar形式情報を共有シェ
 アしましょう。近所のイベントから全国のイベントま
 で今日のイベント検索やスケジュールを決めるならち
 っくたっく
X-WR-CALNAME:ちっくたっく
X-WR-TIMEZONE:UTC
BEGIN:VEVENT
SUMMARY:Hablamos de Ciclismo
DTSTART;VALUE=DATE-TIME:20260424T190000Z
DTEND;VALUE=DATE-TIME:20260424T200000Z
UID:373831879290
DESCRIPTION:Con Igor Astarloa. IV Cinturón Ciclista Este Isla Bonita  
 + INFO 
LOCATION:
END:VEVENT
END:VCALENDAR
