BEGIN:VCALENDAR
VERSION:2.0
PRODID:-//chikkutakku.com//RDFCal 1.0//EN
X-WR-CALDESC:GoogleカレンダーやiCalendar形式情報を共有シェ
 アしましょう。近所のイベントから全国のイベントま
 で今日のイベント検索やスケジュールを決めるならち
 っくたっく
X-WR-CALNAME:ちっくたっく
X-WR-TIMEZONE:UTC
BEGIN:VEVENT
SUMMARY:カプ・コケコレイドアワー(コメダ珈琲店/おかげ
 庵)
DTSTART;VALUE=DATE:20260421
DTEND;VALUE=DATE:20260428
UID:378475146505
DESCRIPTION:詳細はこちら各日18:00~19:00
LOCATION:
END:VEVENT
END:VCALENDAR
