BEGIN:VCALENDAR
VERSION:2.0
PRODID:-//chikkutakku.com//RDFCal 1.0//EN
X-WR-CALDESC:GoogleカレンダーやiCalendar形式情報を共有シェ
 アしましょう。近所のイベントから全国のイベントま
 で今日のイベント検索やスケジュールを決めるならち
 っくたっく
X-WR-CALNAME:ちっくたっく
X-WR-TIMEZONE:UTC
BEGIN:VEVENT
SUMMARY:Year 10 Essential English - Night Ninjas Presentation
DTSTART;VALUE=DATE-TIME:20260505T225300Z
DTEND;VALUE=DATE-TIME:20260506T003600Z
UID:379980567178
DESCRIPTION:Organised by Lucy Clinch
LOCATION:Redlands College - D Block
END:VEVENT
END:VCALENDAR
