BEGIN:VCALENDAR
VERSION:2.0
PRODID:-//chikkutakku.com//RDFCal 1.0//EN
X-WR-CALDESC:GoogleカレンダーやiCalendar形式情報を共有シェ
 アしましょう。近所のイベントから全国のイベントま
 で今日のイベント検索やスケジュールを決めるならち
 っくたっく
X-WR-CALNAME:ちっくたっく
X-WR-TIMEZONE:UTC
BEGIN:VEVENT
SUMMARY:VRC日曜ゲーマーズカフェ（仮）
DTSTART;VALUE=DATE-TIME:20260423T120000Z
DTEND;VALUE=DATE-TIME:20260423T130000Z
UID:384294512524
DESCRIPTION:【イベント主催者】\n　Lilim-Abyss\n【イベント
 内容】\n　VRC日曜ゲーマーズ企画の雑談イベント。普段
 のゲームワールド巡りとは違い、のんびりとお話しま
 しょう！アフターでゲームワールドに行くかも？\n【イ
 ベントジャンル】\n　その他交流会\, 店舗系イベント\, 
 初心者向けイベント\, 定期イベント\n【参加条件（モデ
 ル、人数制限など）】\n　過度な容量、パーティクル、
 音が出る等のアバターの使用は禁止です。\n【参加方法
 】\n　VRC日曜ゲーマーズのグループ（https://vrc.group/SUNVRC
 .8677) に参加して、時間になったら開かれるインスタン
 スにジョインしてください。\n【備考】\n　https://x.com/VR
 Csundaygamers
LOCATION:
END:VEVENT
END:VCALENDAR
