BEGIN:VCALENDAR
VERSION:2.0
PRODID:-//chikkutakku.com//RDFCal 1.0//EN
X-WR-CALDESC:GoogleカレンダーやiCalendar形式情報を共有シェ
 アしましょう。近所のイベントから全国のイベントま
 で今日のイベント検索やスケジュールを決めるならち
 っくたっく
X-WR-CALNAME:ちっくたっく
X-WR-TIMEZONE:UTC
BEGIN:VEVENT
SUMMARY:マンガと図鑑でおもしろい！わかる身近な化学の
 本
DTSTART;VALUE=DATE:20260519
DTEND;VALUE=DATE:20260520
UID:390520636280
DESCRIPTION:2026-05-20マンガと図鑑でおもしろい！わかる身
 近な化学の本うえたに夫婦/左巻 健男大和書房
LOCATION:
END:VEVENT
END:VCALENDAR
