BEGIN:VCALENDAR
VERSION:2.0
PRODID:-//chikkutakku.com//RDFCal 1.0//EN
X-WR-CALDESC:GoogleカレンダーやiCalendar形式情報を共有シェ
 アしましょう。近所のイベントから全国のイベントま
 で今日のイベント検索やスケジュールを決めるならち
 っくたっく
X-WR-CALNAME:ちっくたっく
X-WR-TIMEZONE:UTC
BEGIN:VEVENT
SUMMARY:税理士 鮫島桐子
DTSTART;VALUE=DATE:20260519
DTEND;VALUE=DATE:20260520
UID:397744140174
DESCRIPTION:2026-05-20税理士 鮫島桐子橘 マコト/蛭塚 都集英
 社
LOCATION:
END:VEVENT
END:VCALENDAR
