BEGIN:VCALENDAR
VERSION:2.0
PRODID:-//chikkutakku.com//RDFCal 1.0//EN
X-WR-CALDESC:GoogleカレンダーやiCalendar形式情報を共有シェ
 アしましょう。近所のイベントから全国のイベントま
 で今日のイベント検索やスケジュールを決めるならち
 っくたっく
X-WR-CALNAME:ちっくたっく
X-WR-TIMEZONE:UTC
BEGIN:VEVENT
SUMMARY:教師法研習
DTSTART;VALUE=DATE-TIME:20260515T050000Z
DTEND;VALUE=DATE-TIME:20260515T083000Z
UID:398679014418
DESCRIPTION:1.會議名：教師法研習\n2.會議時間：5月15日 下
 午\n3.聯絡方式：屏東縣教育產業工會7342732、0929029088 陳
 小姐\n4.預估人數：120人
LOCATION:
END:VEVENT
END:VCALENDAR
