BEGIN:VCALENDAR
VERSION:2.0
PRODID:-//chikkutakku.com//RDFCal 1.0//EN
X-WR-CALDESC:GoogleカレンダーやiCalendar形式情報を共有シェ
 アしましょう。近所のイベントから全国のイベントま
 で今日のイベント検索やスケジュールを決めるならち
 っくたっく
X-WR-CALNAME:ちっくたっく
X-WR-TIMEZONE:UTC
BEGIN:VEVENT
SUMMARY:魔力チートな魔女になりました～創造魔法で気ま
 まな異世界生活～10
DTSTART;VALUE=DATE:20260429
DTEND;VALUE=DATE:20260430
UID:401950501343
DESCRIPTION:2026-04-30魔力チートな魔女になりました～創造
 魔法で気ままな異世界生活～10アロハ座長/てつぶたマ
 イクロマガジン社
LOCATION:
END:VEVENT
END:VCALENDAR
