BEGIN:VCALENDAR
VERSION:2.0
PRODID:-//chikkutakku.com//RDFCal 1.0//EN
X-WR-CALDESC:GoogleカレンダーやiCalendar形式情報を共有シェ
 アしましょう。近所のイベントから全国のイベントま
 で今日のイベント検索やスケジュールを決めるならち
 っくたっく
X-WR-CALNAME:ちっくたっく
X-WR-TIMEZONE:UTC
BEGIN:VEVENT
SUMMARY:Paramount Center: The Half of It (+ filmmaker) (RSVP required)
DTSTART;VALUE=DATE-TIME:20260424T223000Z
DTEND;VALUE=DATE-TIME:20260425T003000Z
UID:402781878983
DESCRIPTION:Paramount CenterPublic  · Anyone on or off FacebookFREE w/
  RSVP:  https://artsemerson.org/events/the-half-of-it/When smart but cas
 h-strapped teen Ellie Chu agrees to write a love letter for a jock\, she d
 oesn’t expect to become his friend — or fall for his crush.Q&amp\;A wi
 th director Alice Wu to follow screening.🕐 1 hour 44 minutes🎟️ F
 REE\n\n通过 Google Meet 加入：https://meet.google.com/eog-gbts-dst\n\
 n如需详细了解 Google Meet，请访问：https://support.google.com/a
 /users/answer/9282720
LOCATION:Emerson Paramount Center\, 559 Washington St\, Boston\, MA 02111\
 , USA
END:VEVENT
END:VCALENDAR
