BEGIN:VCALENDAR
VERSION:2.0
PRODID:-//chikkutakku.com//RDFCal 1.0//EN
X-WR-CALDESC:GoogleカレンダーやiCalendar形式情報を共有シェ
 アしましょう。近所のイベントから全国のイベントま
 で今日のイベント検索やスケジュールを決めるならち
 っくたっく
X-WR-CALNAME:ちっくたっく
X-WR-TIMEZONE:UTC
BEGIN:VEVENT
SUMMARY:うさまると老子のことば がんばりすぎない、ゆ
 るやかな人生哲学
DTSTART;VALUE=DATE:20260520
DTEND;VALUE=DATE:20260521
UID:405486677786
DESCRIPTION:2026-05-21うさまると老子のことば がんばりすぎ
 ない、ゆるやかな人生哲学sakumaru/LINE Friends Japan株式会
 社KADOKAWA
LOCATION:
END:VEVENT
END:VCALENDAR
