BEGIN:VCALENDAR
VERSION:2.0
PRODID:-//chikkutakku.com//RDFCal 1.0//EN
X-WR-CALDESC:GoogleカレンダーやiCalendar形式情報を共有シェ
 アしましょう。近所のイベントから全国のイベントま
 で今日のイベント検索やスケジュールを決めるならち
 っくたっく
X-WR-CALNAME:ちっくたっく
X-WR-TIMEZONE:UTC
BEGIN:VEVENT
SUMMARY:建築設計者のためのRhinoceros ［改訂版 Rhino8対応］
DTSTART;VALUE=DATE:20260423
DTEND;VALUE=DATE:20260424
UID:405847299174
DESCRIPTION:2026-04-24建築設計者のためのRhinoceros ［改訂版 R
 hino8対応］アルゴリズムデザインラボ／重村珠穂＋本間
 菫子＋豊住亮太＋大木俊輔＋田島和/日経アーキテクチ
 ュア日経BP
LOCATION:
END:VEVENT
END:VCALENDAR
