BEGIN:VCALENDAR
VERSION:2.0
PRODID:-//chikkutakku.com//RDFCal 1.0//EN
X-WR-CALDESC:GoogleカレンダーやiCalendar形式情報を共有シェ
 アしましょう。近所のイベントから全国のイベントま
 で今日のイベント検索やスケジュールを決めるならち
 っくたっく
X-WR-CALNAME:ちっくたっく
X-WR-TIMEZONE:UTC
BEGIN:VEVENT
SUMMARY:114-2 第二次學輔會議
DTSTART;VALUE=DATE-TIME:20260421T013000Z
DTEND;VALUE=DATE-TIME:20260421T030000Z
UID:409075060945
DESCRIPTION:114-2 第二次學輔會議
LOCATION:
END:VEVENT
END:VCALENDAR
