BEGIN:VCALENDAR
VERSION:2.0
PRODID:-//chikkutakku.com//RDFCal 1.0//EN
X-WR-CALDESC:GoogleカレンダーやiCalendar形式情報を共有シェ
 アしましょう。近所のイベントから全国のイベントま
 で今日のイベント検索やスケジュールを決めるならち
 っくたっく
X-WR-CALNAME:ちっくたっく
X-WR-TIMEZONE:UTC
BEGIN:VEVENT
SUMMARY:【注】頭文字D First Stage #1 究極のとうふ屋ドリフ
 ト / #2 リベンジ宣言！ほえるターボ / #3 ダウンヒルス
 ペシャリスト登場 / #4 交流戦突入！ / #5 決着！ドッグ
 ファイト！ / #6 新たなる挑戦者
DTSTART;VALUE=DATE-TIME:20260426T000000Z
DTEND;VALUE=DATE-TIME:20260426T030000Z
UID:411726144956
DESCRIPTION: / #1 究極のとうふ屋ドリフト / #2 リベンジ宣
 言！ほえるターボ / #3 ダウンヒルスペシャリスト登場 /
  #4 交流戦突入！ / #5 決着！ドッグファイト！ / #6 新た
 なる挑戦者 / https://abema.tv/channels/abema-anime-3/slots/EvABLvDrgX
 cUrb リピート放送は 12:00～ https://abema.tv/channels/abema-anime-
 3/slots/Ah77n2V9saBtgX 、26:30～ https://abema.tv/channels/abema-anime-3
 /slots/EvABNjd6DhfzSb (無料TS72時間)
LOCATION:Abemaアニメ3
END:VEVENT
END:VCALENDAR
