BEGIN:VCALENDAR
VERSION:2.0
PRODID:-//chikkutakku.com//RDFCal 1.0//EN
X-WR-CALDESC:GoogleカレンダーやiCalendar形式情報を共有シェ
 アしましょう。近所のイベントから全国のイベントま
 で今日のイベント検索やスケジュールを決めるならち
 っくたっく
X-WR-CALNAME:ちっくたっく
X-WR-TIMEZONE:UTC
BEGIN:VEVENT
SUMMARY:(นพ.สสจ.) ประธานการประชุม
 คณะกรรมการศูนย์ประสานงาน 
 ฌกส.อสม.ครั้งที่3/2569 ณ ห้องปร
 ะชุมนายแพทย์บัณฑิต จึงสมา
 น
DTSTART;VALUE=DATE-TIME:20260424T023000Z
DTEND;VALUE=DATE-TIME:20260424T050000Z
UID:414238738500
DESCRIPTION:(นพ.สสจ.) ประธานการประชุ
 มคณะกรรมการศูนย์ประสานงา
 น ฌกส.อสม.ครั้งที่3/2569 ณ ห้องป
 ระชุมนายแพทย์บัณฑิต จึงสม
 าน
LOCATION:
END:VEVENT
END:VCALENDAR
