BEGIN:VCALENDAR
VERSION:2.0
PRODID:-//chikkutakku.com//RDFCal 1.0//EN
X-WR-CALDESC:GoogleカレンダーやiCalendar形式情報を共有シェ
 アしましょう。近所のイベントから全国のイベントま
 で今日のイベント検索やスケジュールを決めるならち
 っくたっく
X-WR-CALNAME:ちっくたっく
X-WR-TIMEZONE:UTC
BEGIN:VEVENT
SUMMARY:ドルアーガの塔 #3 「旅立ちの前に」
DTSTART;VALUE=DATE-TIME:20260426T013000Z
DTEND;VALUE=DATE-TIME:20260426T020000Z
UID:417970153083
DESCRIPTION:3 / 旅立ちの前に / 
LOCATION:TOKYO MX
END:VEVENT
END:VCALENDAR
