BEGIN:VCALENDAR
VERSION:2.0
PRODID:-//chikkutakku.com//RDFCal 1.0//EN
X-WR-CALDESC:GoogleカレンダーやiCalendar形式情報を共有シェ
 アしましょう。近所のイベントから全国のイベントま
 で今日のイベント検索やスケジュールを決めるならち
 っくたっく
X-WR-CALNAME:ちっくたっく
X-WR-TIMEZONE:UTC
BEGIN:VEVENT
SUMMARY:運動器超音波解剖学
DTSTART;VALUE=DATE:20260521
DTEND;VALUE=DATE:20260522
UID:419943949810
DESCRIPTION:2026-05-22運動器超音波解剖学熊井 司/中島 祐子
 メディカル・サイエンス・インターナショナル
LOCATION:
END:VEVENT
END:VCALENDAR
