BEGIN:VCALENDAR
VERSION:2.0
PRODID:-//chikkutakku.com//RDFCal 1.0//EN
X-WR-CALDESC:GoogleカレンダーやiCalendar形式情報を共有シェ
 アしましょう。近所のイベントから全国のイベントま
 で今日のイベント検索やスケジュールを決めるならち
 っくたっく
X-WR-CALNAME:ちっくたっく
X-WR-TIMEZONE:UTC
BEGIN:VEVENT
SUMMARY:【テニス】大分市中学春季近郊大会
DTSTART;VALUE=DATE:20260503
DTEND;VALUE=DATE:20260504
UID:423243031362
DESCRIPTION:
LOCATION:テニスコート
END:VEVENT
END:VCALENDAR
