BEGIN:VCALENDAR
VERSION:2.0
PRODID:-//chikkutakku.com//RDFCal 1.0//EN
X-WR-CALDESC:GoogleカレンダーやiCalendar形式情報を共有シェ
 アしましょう。近所のイベントから全国のイベントま
 で今日のイベント検索やスケジュールを決めるならち
 っくたっく
X-WR-CALNAME:ちっくたっく
X-WR-TIMEZONE:UTC
BEGIN:VEVENT
SUMMARY:【Android 対応】第４回　マリオ６４RTA　VRC並走会
DTSTART;VALUE=DATE-TIME:20260425T125500Z
DTEND;VALUE=DATE-TIME:20260425T140000Z
UID:427599548175
DESCRIPTION:【イベント主催者】\n　sazan\n【イベント内容
 】\n　マリオ６４RTAをVRC内の動画プレイヤーに映して並
 走するイベントです。今回のカテゴリーは時間制限付
 きS人生（スーパー人生プレイ）！\n一時間のうちにど
 れだけスターを取れるか競います。但し！ダメージを
 受けた時点で即終了です！\n途中参加退室、お喋り、無
 言OKです！\n【イベントジャンル】\n　その他交流会\n【
 参加条件（モデル、人数制限など）】\n　配信いたしま
 すので利用規約に問題のないアバターでお越しくださ
 い。\n【参加方法】\n　マリオ64RTA＿VRC支部のグループ
 からJoin（https://vrc.group/M64RTA.0741）またはsazanにフレンド
 申請を送りJoin（https://vrchat.com/home/user/usr_4b77b382-d107-4a86-
 8b36-3c59cff18b10）\n【備考】\n　走者として参加したい場
 合は事前にDiscordサーバーに加入してください。\n様子
 はTwitchでも確認できます。（https://www.twitch.tv/sazan_139）
LOCATION:
END:VEVENT
END:VCALENDAR
