BEGIN:VCALENDAR
VERSION:2.0
PRODID:-//chikkutakku.com//RDFCal 1.0//EN
X-WR-CALDESC:GoogleカレンダーやiCalendar形式情報を共有シェ
 アしましょう。近所のイベントから全国のイベントま
 で今日のイベント検索やスケジュールを決めるならち
 っくたっく
X-WR-CALNAME:ちっくたっく
X-WR-TIMEZONE:UTC
BEGIN:VEVENT
SUMMARY:そらいろドリーマー撮影交流会「みにサツ！」
DTSTART;VALUE=DATE-TIME:20260425T140000Z
DTEND;VALUE=DATE-TIME:20260425T145900Z
UID:427826905628
DESCRIPTION:【イベント主催者】\n　piro_vrc\n【イベント内
 容】\n　「そらいろドリーマー」による撮影交流会です
 。\n【イベントジャンル】\n　改変アバター交流会\, そ
 の他交流会\, 定期イベント\n【参加条件（モデル、人数
 制限など）】\n　制限なし\n【参加方法】\n　VRChatグル
 ープ「そらドリファンクラブ」のGroup+にJoin\n【備考】\n
 　開催時間：23:00～24:00　告知URL：https://x.com/soradori_vr/st
 atus/2044974133335752934?s=20
LOCATION:
END:VEVENT
END:VCALENDAR
