BEGIN:VCALENDAR
VERSION:2.0
PRODID:-//chikkutakku.com//RDFCal 1.0//EN
X-WR-CALDESC:GoogleカレンダーやiCalendar形式情報を共有シェ
 アしましょう。近所のイベントから全国のイベントま
 で今日のイベント検索やスケジュールを決めるならち
 っくたっく
X-WR-CALNAME:ちっくたっく
X-WR-TIMEZONE:UTC
BEGIN:VEVENT
SUMMARY:京都・市民放射能測定所　開設１４周年のつどい
DTSTART;VALUE=DATE-TIME:20260517T050000Z
DTEND;VALUE=DATE-TIME:20260517T060000Z
UID:428325150655
DESCRIPTION:※※※※※※※※※※※※※※※※※※※※
 ※※※※※※※※※※※※※※※※京都・市民放射能
 測定所　開設１４周年のつどい【日時】５月１７日（
 日）１４時開始　１６時３０分終了予定【場所】こど
 もみらい館・京都（最寄りは地下鉄丸太町駅）　※オ
 ンライン参加可能【資料代カンパ】５００円※オンラ
 イン参加ご希望の方は、下記（こくちーず）からお申
 込みください。https://www.kokuchpro.com/event/260517/【内容】
 　１４時　会員総会　１４時３０分　市川章人さん（
 京都自治体問題研究所・原子力災害研究会）記念講演
 　　　　　『世界的エネルギー転換と日本　－進行中
 の福島事故、矛盾深める原発回帰－』　１５時３０分
 　休憩後質疑　１６時　意見交流、参加測定所・団体
 ・個人からのアピール　１６時３０分　終了 ※※※※
 ※※※※※※※※※※※※※※※※※※※※※※※※
 ※※※※※※※※（連絡先）京都・市民放射能測定所
LOCATION:
END:VEVENT
END:VCALENDAR
