BEGIN:VCALENDAR
VERSION:2.0
PRODID:-//chikkutakku.com//RDFCal 1.0//EN
X-WR-CALDESC:GoogleカレンダーやiCalendar形式情報を共有シェ
 アしましょう。近所のイベントから全国のイベントま
 で今日のイベント検索やスケジュールを決めるならち
 っくたっく
X-WR-CALNAME:ちっくたっく
X-WR-TIMEZONE:UTC
BEGIN:VEVENT
SUMMARY:【Android 対応】【Android 対応】第1回VRC緑髪同好会
 麻雀部交流会
DTSTART;VALUE=DATE-TIME:20260424T110000Z
DTEND;VALUE=DATE-TIME:20260424T123000Z
UID:429304865020
DESCRIPTION:【イベント主催者】\n　みちあくん\n【イベン
 ト内容】\n　【イベント内容】\n緑髪を通じて交流を深
 める緑髪アバター交流型麻雀イベント\n初心者でも大歓
 迎、スタッフによる簡単な初心者案内もしています\n途
 中参加OK、途中抜けOK。\n別で月一で緑髪同好会集会を
 開催しています。\nまた、不定期で緑髪同好会交流所を
 開催しています。\n【イベントジャンル】\n改変アバタ
 ー交流会\, その他交流会\, 初心者向けイベント\n【イベ
 ントジャンル】\n　改変アバター交流会\, その他交流会
 \, 初心者向けイベント\n【参加条件（モデル、人数制限
 など）】\n　【参加条件（モデル、人数制限など）】\n
 ・麻雀に興味がある人\n・緑髪が好きであること\n・緑
 髪アバターを持っていること（メインアバターでなく
 ても可、ケモノ・人外系もOK）\n※詳細はグループのル
 ールをご確認ください\n【参加方法】\n　【参加方法】\
 n　「緑髪同好会」のグループインスタンスで実施する
 ので参加後JOINください。\nhttps://vrc.group/VRCGHC.3805\n【備
 考】\n　【参加方法】\n　「緑髪同好会」のグループイ
 ンスタンスで実施するので参加後JOINください。\nhttps://
 vrc.group/VRCGHC.3805\n【備考】\n　\n《SNS投稿について》\n#VR
 C緑髪同好会\nXポスト大歓迎です。\n上記ハッシュタグ
 を付けて頂けると気づきやすいので助かります。\n\n《W
 ebサイト》\n「VRC緑髪同好会」で検索！コミュニティDisc
 ordもあります。\nWebサイトではイベントのアルバムやス
 タッフ紹介などのコンテンツがあります。\n\n\n禁止事
 項\n・イベントの進行を無視する行為（大きすぎるアバ
 ター、大音量、視界ジャックなど）の禁止\n・金銭（暗
 号資産等含む）を賭ける行為\n・イベント内での無断録
 音や、配信等の禁止\n・過度な暴言、煽り行為、三味線
 行為など\n・NSFW行為の禁止\n・スタッフや他の方への迷
 惑行為の禁止\n\n\nNSFW行為の禁止\nイベントの進行を無
 視する行為（大きすぎるアバター、大音量、視界ジャ
 ックなど）の禁止\n店内での無断録音や、配信等の禁止
 \nスタッフや他の方への迷惑行為の禁止\nその他詳細は
 禁止事項 へ記載しております
LOCATION:
END:VEVENT
END:VCALENDAR
