BEGIN:VCALENDAR
VERSION:2.0
PRODID:-//chikkutakku.com//RDFCal 1.0//EN
X-WR-CALDESC:GoogleカレンダーやiCalendar形式情報を共有シェ
 アしましょう。近所のイベントから全国のイベントま
 で今日のイベント検索やスケジュールを決めるならち
 っくたっく
X-WR-CALNAME:ちっくたっく
X-WR-TIMEZONE:UTC
BEGIN:VEVENT
SUMMARY: 【RP接客イベント】悪魔喫茶「Diabolos」
DTSTART;VALUE=DATE-TIME:20260428T132500Z
DTEND;VALUE=DATE-TIME:20260428T145900Z
UID:431336689434
DESCRIPTION:【イベント主催者】\n　　あしゅ。\n【イベン
 ト内容】\n　　「誘惑の香り、悪魔とのひととき。」\n\
 n悪魔喫茶「Diabolos」は\nソロモン72柱の悪魔2柱が\n人間
 のお客様3人をおもてなしする\n雑談系RPイベントです。
 \n\n悪魔の皆様とお客様との会話はもちろん、\n悪魔同
 士の掛け合いにもご注目ください。\n【イベントジャン
 ル】\n　店舗系イベント\, ロールプレイ\, 定期イベント
 \n【参加条件（モデル、人数制限など）】\n　・PCVR以上
 推奨\n・日本語話者であること\n・ユーザーランク Known
 以上\n【参加方法】\n　22:25に行きたいインスタンスの
 インスタンスリーダーまでリクエストインバイトを1回
 送信\n（ILへのフレンド申請は22:00までにお願い致しま
 す）\n\n【備考】\n　
LOCATION:
END:VEVENT
END:VCALENDAR
