BEGIN:VCALENDAR
VERSION:2.0
PRODID:-//chikkutakku.com//RDFCal 1.0//EN
X-WR-CALDESC:GoogleカレンダーやiCalendar形式情報を共有シェ
 アしましょう。近所のイベントから全国のイベントま
 で今日のイベント検索やスケジュールを決めるならち
 っくたっく
X-WR-CALNAME:ちっくたっく
X-WR-TIMEZONE:UTC
BEGIN:VEVENT
SUMMARY:(ภาณุวัฒน์) ร่วมการประชุ
 มสรุปผลการศึกษาโครงการจ้
 างวิศวกรที่ปรึกษาสำรวจแล
 ะออกแบบทางเลี่ยงเมืองศรี
 สะเกษ (ด้านตะวันออก) ณ ห้องป
 ระชุมดาวิชี่ โรงแรมแกลเลอ
 รี่ ดีไซน์
DTSTART;VALUE=DATE-TIME:20260424T020000Z
DTEND;VALUE=DATE-TIME:20260424T050000Z
UID:434662355531
DESCRIPTION:(ภาณุวัฒน์) ร่วมการประ
 ชุมสรุปผลการศึกษาโครงการ
 จ้างวิศวกรที่ปรึกษาสำรวจ
 และออกแบบทางเลี่ยงเมืองศ
 รีสะเกษ (ด้านตะวันออก) ณ ห้อ
 งประชุมดาวิชี่ โรงแรมแกลเ
 ลอรี่ ดีไซน์
LOCATION:
END:VEVENT
END:VCALENDAR
