BEGIN:VCALENDAR
VERSION:2.0
PRODID:-//chikkutakku.com//RDFCal 1.0//EN
X-WR-CALDESC:GoogleカレンダーやiCalendar形式情報を共有シェ
 アしましょう。近所のイベントから全国のイベントま
 で今日のイベント検索やスケジュールを決めるならち
 っくたっく
X-WR-CALNAME:ちっくたっく
X-WR-TIMEZONE:UTC
BEGIN:VEVENT
SUMMARY:Ask 4-H About: Being a State Officer Candidate
DTSTART;VALUE=DATE-TIME:20260514T230000Z
DTEND;VALUE=DATE-TIME:20260515T000000Z
UID:439533426284
DESCRIPTION:Facebook Live - https://www.facebook.com/florida4h/ details -
  https://florida4h.ifas.ufl.edu/projects/citizenship--leadership/youth-vo
 ices-florida-4-h-youth-councils/state-council/becoming-a-state-council-off
 icer/
LOCATION:
END:VEVENT
END:VCALENDAR
