BEGIN:VCALENDAR
VERSION:2.0
PRODID:-//chikkutakku.com//RDFCal 1.0//EN
X-WR-CALDESC:GoogleカレンダーやiCalendar形式情報を共有シェ
 アしましょう。近所のイベントから全国のイベントま
 で今日のイベント検索やスケジュールを決めるならち
 っくたっく
X-WR-CALNAME:ちっくたっく
X-WR-TIMEZONE:UTC
BEGIN:VEVENT
SUMMARY:抱けど暮らせど「好き」が言えない 3
DTSTART;VALUE=DATE:20260520
DTEND;VALUE=DATE:20260521
UID:441847060407
DESCRIPTION:2026-05-21抱けど暮らせど「好き」が言えない 3
 才手けいブライト出版
LOCATION:
END:VEVENT
END:VCALENDAR
