BEGIN:VCALENDAR
VERSION:2.0
PRODID:-//chikkutakku.com//RDFCal 1.0//EN
X-WR-CALDESC:GoogleカレンダーやiCalendar形式情報を共有シェ
 アしましょう。近所のイベントから全国のイベントま
 で今日のイベント検索やスケジュールを決めるならち
 っくたっく
X-WR-CALNAME:ちっくたっく
X-WR-TIMEZONE:UTC
BEGIN:VEVENT
SUMMARY:りるるちゃんず
DTSTART;VALUE=DATE-TIME:20260425T130000Z
DTEND;VALUE=DATE-TIME:20260425T140000Z
UID:443605162945
DESCRIPTION:【イベント主催者】\n　べるまにゅうむ\n【イ
 ベント内容】\n　ChipieRupiさんから発売されているRiruru
 ちゃんのアバター集会です！\nサンプルアバターでも参
 加可能です！\n【イベントジャンル】\n　アバター試着
 会\, 改変アバター交流会\, 定期イベント\n【参加条件（
 モデル、人数制限など）】\n　「りるるちゃんず」のGro
 up(RIRURU.2900)にご参加ください！\ngroupインスタンスにて
 参加可能です！\nりるるちゃんベースのアバター、もし
 くはサンプルでの参加をお願いします。\nお顔がりるる
 ちゃんと分かるなら首から下のキメラ改変はOKです！\n
 【参加方法】\n　開始時刻になったらGroupインスタンス
 に参加してください！\n【備考】\n　
LOCATION:
END:VEVENT
END:VCALENDAR
