BEGIN:VCALENDAR
VERSION:2.0
PRODID:-//chikkutakku.com//RDFCal 1.0//EN
X-WR-CALDESC:GoogleカレンダーやiCalendar形式情報を共有シェ
 アしましょう。近所のイベントから全国のイベントま
 で今日のイベント検索やスケジュールを決めるならち
 っくたっく
X-WR-CALNAME:ちっくたっく
X-WR-TIMEZONE:UTC
BEGIN:VEVENT
SUMMARY:業務効率を200％アップ！AI＆ICT活用の最強仕事術
DTSTART;VALUE=DATE:20260430
DTEND;VALUE=DATE:20260501
UID:450287597953
DESCRIPTION:2026-05-01業務効率を200％アップ！AI＆ICT活用の
 最強仕事術八重山 智也明治図書出版
LOCATION:
END:VEVENT
END:VCALENDAR
