BEGIN:VCALENDAR
VERSION:2.0
PRODID:-//chikkutakku.com//RDFCal 1.0//EN
X-WR-CALDESC:GoogleカレンダーやiCalendar形式情報を共有シェ
 アしましょう。近所のイベントから全国のイベントま
 で今日のイベント検索やスケジュールを決めるならち
 っくたっく
X-WR-CALNAME:ちっくたっく
X-WR-TIMEZONE:UTC
BEGIN:VEVENT
SUMMARY:เจ้าภาพพระพิธีธรรมสวดพ
 ระอภิธรรมพระบรมศพสมเด็จพ
 ระนางเจ้าสิริกิติ์ พระบรม
 ราชินีนาถ พระบรมราชชนนีพั
 นปีหลวง
DTSTART;VALUE=DATE:20260428
DTEND;VALUE=DATE:20260429
UID:455889767879
DESCRIPTION:วันพุธที่ 29 เมษายน 2569 เว
 ลา 1000 น มหาวิทยาลัยทักษิณได
 ้รับพระบรมราชานุญาตให้เป
 ็นเจ้าภาพพระพิธีธรรมสวดพ
 ระอภิธรรมพระบรมศพสมเด็จพ
 ระนางเจ้าสิริกิติ์ พระบรม
 ราชินีนาถ พระบรมราชชนนีพั
 นปีหลวง ณ พระที่นั่งดุสิตม
 หาปราสาท \nท่านอธิการให้รอ
 งอธิการทุกท่านเข้าร่วมพิ
 ธีนะครับ\nกำหนดการจะรีบแจ้
 งครับ\n\nท่านรองฯ แจ้งเมื่อ 1-
 04-69
LOCATION:ณ พระที่นั่งดุสิตมหาปร
 าสาท
END:VEVENT
END:VCALENDAR
