BEGIN:VCALENDAR
VERSION:2.0
PRODID:-//chikkutakku.com//RDFCal 1.0//EN
X-WR-CALDESC:GoogleカレンダーやiCalendar形式情報を共有シェ
 アしましょう。近所のイベントから全国のイベントま
 で今日のイベント検索やスケジュールを決めるならち
 っくたっく
X-WR-CALNAME:ちっくたっく
X-WR-TIMEZONE:UTC
BEGIN:VEVENT
SUMMARY:CLUB　RGLAY
DTSTART;VALUE=DATE-TIME:20260422T125500Z
DTEND;VALUE=DATE-TIME:20260422T141500Z
UID:456514068016
DESCRIPTION:【イベント主催者】\n　薊／azami\n【イベント
 内容】\n　ホストと１対１での接客イベントとなってい
 ます。\n数か月後には３周年を迎えるイベントとなって
 いますが、新規様もぜひお越しいただき当店のホスト
 と甘い時間をお過ごしください。\n【イベントジャンル
 】\n　店舗系イベント\n【参加条件（モデル、人数制限
 など）】\n　日本語でのコミュニケーションが可能な方
 、デスクトップでも参加は可能ですがぜひVRでホストと
 の距離感等をよりお楽しみいただけます。\n【参加方法
 】\n　２１時５５分から「薊／azami」にリクイン\n【備
 考】\n　公式X　@CLUB_RGLAY
LOCATION:
END:VEVENT
END:VCALENDAR
