BEGIN:VCALENDAR
VERSION:2.0
PRODID:-//chikkutakku.com//RDFCal 1.0//EN
X-WR-CALDESC:GoogleカレンダーやiCalendar形式情報を共有シェ
 アしましょう。近所のイベントから全国のイベントま
 で今日のイベント検索やスケジュールを決めるならち
 っくたっく
X-WR-CALNAME:ちっくたっく
X-WR-TIMEZONE:UTC
BEGIN:VEVENT
SUMMARY:【楽天ブックス限定先着特典+早期予約特典】舞
 台『忘却バッテリー』【Blu-ray】(L判ソロブロマイド（
 ステージショット）3枚セット+L判ブロマイド（ステー
 ジショット）1枚)
DTSTART;VALUE=DATE:20260521
DTEND;VALUE=DATE:20260522
UID:459605018210
DESCRIPTION:2026-05-22【楽天ブックス限定先着特典+早期予約
 特典】舞台『忘却バッテリー』【Blu-ray】(L判ソロブロ
 マイド（ステージショット）3枚セット+L判ブロマイド
 （ステージショット）1枚)ネルケプランニング
LOCATION:
END:VEVENT
END:VCALENDAR
