BEGIN:VCALENDAR
VERSION:2.0
PRODID:-//chikkutakku.com//RDFCal 1.0//EN
X-WR-CALDESC:GoogleカレンダーやiCalendar形式情報を共有シェ
 アしましょう。近所のイベントから全国のイベントま
 で今日のイベント検索やスケジュールを決めるならち
 っくたっく
X-WR-CALNAME:ちっくたっく
X-WR-TIMEZONE:UTC
BEGIN:VEVENT
SUMMARY:Volunteer Training_Introduction to Rafting with ASA
DTSTART;VALUE=DATE-TIME:20260513T150000Z
DTEND;VALUE=DATE-TIME:20260513T210000Z
UID:465356312547
DESCRIPTION:During this clinic\, you can expect to learn about what a day 
 of rafting looks like here at ASA. We will talk about volunteer responsibi
 lities and how you can best support us on our rafting trips. In this clini
 c\, you will get to know our rafting equipment and the adaptations that we
  can add to the boat. We will go through some safety precautions and talk 
 about our risk management while we are out on the river. At the end of thi
 s training\, you should have a good understanding of what to expect when v
 olunteering on a rafting program.Experience: No experience needed\, this c
 linic is tailored towards volunteers that are new to ASA or returning volu
 nteers that want a refresher on our rafting program. If you have any quest
 ions\, feel free to reach out to Stefan at training@asadurango.com. 
LOCATION:
END:VEVENT
END:VCALENDAR
