BEGIN:VCALENDAR
VERSION:2.0
PRODID:-//chikkutakku.com//RDFCal 1.0//EN
X-WR-CALDESC:GoogleカレンダーやiCalendar形式情報を共有シェ
 アしましょう。近所のイベントから全国のイベントま
 で今日のイベント検索やスケジュールを決めるならち
 っくたっく
X-WR-CALNAME:ちっくたっく
X-WR-TIMEZONE:UTC
BEGIN:VEVENT
SUMMARY:(รองสุริยนต์) ประชุมคณะก
 รรมการพนักงานส่วนตำบลจัง
 หวัดศรีสะเกษ ครั้งที่4/ 2569 ณ
 ห้องประชุมศรีพฤทเธศวร ศาล
 ากลางจังหวัดฯ ชั้น5
DTSTART;VALUE=DATE-TIME:20260424T023000Z
DTEND;VALUE=DATE-TIME:20260424T050000Z
UID:468429509387
DESCRIPTION:(รองสุริยนต์) ประชุมคณ
 ะกรรมการพนักงานส่วนตำบลจ
 ังหวัดศรีสะเกษ ครั้งที่4/ 2569
  ณห้องประชุมศรีพฤทเธศวร ศา
 ลากลางจังหวัดฯ ชั้น5
LOCATION:
END:VEVENT
END:VCALENDAR
