BEGIN:VCALENDAR
VERSION:2.0
PRODID:-//chikkutakku.com//RDFCal 1.0//EN
X-WR-CALDESC:GoogleカレンダーやiCalendar形式情報を共有シェ
 アしましょう。近所のイベントから全国のイベントま
 で今日のイベント検索やスケジュールを決めるならち
 っくたっく
X-WR-CALNAME:ちっくたっく
X-WR-TIMEZONE:UTC
BEGIN:VEVENT
SUMMARY:クラスの大嫌いな女子と結婚することになった。
  （9）
DTSTART;VALUE=DATE:20260422
DTEND;VALUE=DATE:20260423
UID:472533788232
DESCRIPTION:2026-04-23クラスの大嫌いな女子と結婚すること
 になった。 （9）もすこんぶ/天乃 聖樹KADOKAWA
LOCATION:
END:VEVENT
END:VCALENDAR
