BEGIN:VCALENDAR
VERSION:2.0
PRODID:-//chikkutakku.com//RDFCal 1.0//EN
X-WR-CALDESC:GoogleカレンダーやiCalendar形式情報を共有シェ
 アしましょう。近所のイベントから全国のイベントま
 で今日のイベント検索やスケジュールを決めるならち
 っくたっく
X-WR-CALNAME:ちっくたっく
X-WR-TIMEZONE:UTC
BEGIN:VEVENT
SUMMARY:【注】銀河鉄道999 #57 冷血帝国 後編 / #58 足音村
 の足音 / #59 なまけものの鏡 / #60 大四畳半惑星の幻想 
 前編 / #61 大四畳半惑星の幻想 後編 / #62 夜のない街 / #6
 3 ヤミヤミの姉妹
DTSTART;VALUE=DATE-TIME:20260423T220000Z
DTEND;VALUE=DATE-TIME:20260424T013000Z
UID:474760240941
DESCRIPTION: / #57 冷血帝国 後編 / #58 足音村の足音 / #59 な
 まけものの鏡 / #60 大四畳半惑星の幻想 前編 / #61 大四
 畳半惑星の幻想 後編 / #62 夜のない街 / #63 ヤミヤミの
 姉妹 / https://abema.tv/channels/80s-anime-1/slots/DgUGzzMVCE4adD リピ
 ート放送は 22:30～ https://abema.tv/channels/80s-anime-1/slots/Aod7G
 cbqLH58RM (無料TS1週間) https://prtimes.jp/main/html/rd/p/000003026.00
 0064643.html
LOCATION:なつかしアニメ80's
END:VEVENT
END:VCALENDAR
