BEGIN:VCALENDAR
VERSION:2.0
PRODID:-//chikkutakku.com//RDFCal 1.0//EN
X-WR-CALDESC:GoogleカレンダーやiCalendar形式情報を共有シェ
 アしましょう。近所のイベントから全国のイベントま
 で今日のイベント検索やスケジュールを決めるならち
 っくたっく
X-WR-CALNAME:ちっくたっく
X-WR-TIMEZONE:UTC
BEGIN:VEVENT
SUMMARY:ウッド・ウィンズ・フェスタ 2026
DTSTART;VALUE=DATE-TIME:20260425T090000Z
DTEND;VALUE=DATE-TIME:20260425T110000Z
UID:480558504750
DESCRIPTION:http://cclive.ikora.tv/e1600673.html
LOCATION:和歌山城ホール　小ホール和歌山市七番丁25番地
END:VEVENT
END:VCALENDAR
