BEGIN:VCALENDAR
VERSION:2.0
PRODID:-//chikkutakku.com//RDFCal 1.0//EN
X-WR-CALDESC:GoogleカレンダーやiCalendar形式情報を共有シェ
 アしましょう。近所のイベントから全国のイベントま
 で今日のイベント検索やスケジュールを決めるならち
 っくたっく
X-WR-CALNAME:ちっくたっく
X-WR-TIMEZONE:UTC
BEGIN:VEVENT
SUMMARY:Cafe りるれっど
DTSTART;VALUE=DATE-TIME:20260426T020000Z
DTEND;VALUE=DATE-TIME:20260426T040000Z
UID:483401403794
DESCRIPTION:【イベント主催者】\n　あべーる\n【イベント
 内容】\n　ここでしか楽しめないかわいい限定カフェメ
 ニューと、ほっと一息つけるやさしい空間をご用意し
 ました！\n\nイベントまでのちょっとした時間や\nお友
 達との待ち合わせ、のんびり作業にもぴったりです。\n
 【イベントジャンル】\n　店舗系イベント\, 初心者向け
 イベント\, 定期イベント\n【参加条件（モデル、人数制
 限など）】\n　イベント内のルール\n・許可のないカウ
 ンター内の立ち入り禁止\n・スタッフや他のお客様の迷
 惑となる行為の禁止\n・許可のない配信活動や動画撮影
 の禁止\n・極端にダウンロードサイズの大きいアバター
 は禁止（60MB以下推奨）\n・NSFW、過度なパーティクル、
 音の鳴るギミックの禁止\n・武器の抜刀、発砲は禁止（
 携行は許可）\n\n【参加方法】\n　https://vrc.group/CLR.5753 Gr
 oup＋\n【備考】\n　https://x.com/Cafe_Little_Red\n#りるれっど
LOCATION:
END:VEVENT
END:VCALENDAR
