BEGIN:VCALENDAR
VERSION:2.0
PRODID:-//chikkutakku.com//RDFCal 1.0//EN
X-WR-CALDESC:GoogleカレンダーやiCalendar形式情報を共有シェ
 アしましょう。近所のイベントから全国のイベントま
 で今日のイベント検索やスケジュールを決めるならち
 っくたっく
X-WR-CALNAME:ちっくたっく
X-WR-TIMEZONE:UTC
BEGIN:VEVENT
SUMMARY:พจ. /ผอ. /นิตยา เข้าพบ ผอ.ศู
 นย์หม่อนไหมเฉลิมพระเกียร
 ติฯ ณ ศูนย์หม่อนไหมเฉลิมพร
 ะเกียรติฯ จ.ศรีสะเกษ
DTSTART;VALUE=DATE-TIME:20260424T030000Z
DTEND;VALUE=DATE-TIME:20260424T040000Z
UID:484391366720
DESCRIPTION:พจ. /ผอ. /นิตยา เข้าพบ ผอ.
 ศูนย์หม่อนไหมเฉลิมพระเกี
 ยรติฯ ณ ศูนย์หม่อนไหมเฉลิม
 พระเกียรติฯ จ.ศรีสะเกษ
LOCATION:
END:VEVENT
END:VCALENDAR
