BEGIN:VCALENDAR
VERSION:2.0
PRODID:-//chikkutakku.com//RDFCal 1.0//EN
X-WR-CALDESC:GoogleカレンダーやiCalendar形式情報を共有シェ
 アしましょう。近所のイベントから全国のイベントま
 で今日のイベント検索やスケジュールを決めるならち
 っくたっく
X-WR-CALNAME:ちっくたっく
X-WR-TIMEZONE:UTC
BEGIN:VEVENT
SUMMARY:なぜ逃げるんだい？　僕の召喚獣は可愛いよ　１
DTSTART;VALUE=DATE:20260507
DTEND;VALUE=DATE:20260508
UID:491977212318
DESCRIPTION:2026-05-08なぜ逃げるんだい？　僕の召喚獣は可
 愛いよ　１夜迎　樹/依澄れい/スコッティ/バリキオスKA
 DOKAWA
LOCATION:
END:VEVENT
END:VCALENDAR
