BEGIN:VCALENDAR
VERSION:2.0
PRODID:-//chikkutakku.com//RDFCal 1.0//EN
X-WR-CALDESC:GoogleカレンダーやiCalendar形式情報を共有シェ
 アしましょう。近所のイベントから全国のイベントま
 で今日のイベント検索やスケジュールを決めるならち
 っくたっく
X-WR-CALNAME:ちっくたっく
X-WR-TIMEZONE:UTC
BEGIN:VEVENT
SUMMARY:ズボラでもできた 小さな緑で心が潤うお部屋づ
 くり 苔テラリウムはじめました
DTSTART;VALUE=DATE:20260519
DTEND;VALUE=DATE:20260520
UID:493423918767
DESCRIPTION:2026-05-20ズボラでもできた 小さな緑で心が潤う
 お部屋づくり 苔テラリウムはじめましたタソ/石河 英
 作KADOKAWA
LOCATION:
END:VEVENT
END:VCALENDAR
