BEGIN:VCALENDAR
VERSION:2.0
PRODID:-//chikkutakku.com//RDFCal 1.0//EN
X-WR-CALDESC:GoogleカレンダーやiCalendar形式情報を共有シェ
 アしましょう。近所のイベントから全国のイベントま
 で今日のイベント検索やスケジュールを決めるならち
 っくたっく
X-WR-CALNAME:ちっくたっく
X-WR-TIMEZONE:UTC
BEGIN:VEVENT
SUMMARY:お仕事さくいん 空港・駅・港でのお仕事
DTSTART;VALUE=DATE:20260429
DTEND;VALUE=DATE:20260430
UID:496042271293
DESCRIPTION:2026-04-30お仕事さくいん 空港・駅・港でのお仕
 事DBジャパンDBジャパン
LOCATION:
END:VEVENT
END:VCALENDAR
