BEGIN:VCALENDAR
VERSION:2.0
PRODID:-//chikkutakku.com//RDFCal 1.0//EN
X-WR-CALDESC:GoogleカレンダーやiCalendar形式情報を共有シェ
 アしましょう。近所のイベントから全国のイベントま
 で今日のイベント検索やスケジュールを決めるならち
 っくたっく
X-WR-CALNAME:ちっくたっく
X-WR-TIMEZONE:UTC
BEGIN:VEVENT
SUMMARY:宇宙のはじまりと素粒子 ウロボロスの蛇でたど
 る現代物理学
DTSTART;VALUE=DATE:20260520
DTEND;VALUE=DATE:20260521
UID:497607353178
DESCRIPTION:2026-05-21宇宙のはじまりと素粒子 ウロボロスの
 蛇でたどる現代物理学田島 治講談社
LOCATION:
END:VEVENT
END:VCALENDAR
