BEGIN:VCALENDAR
VERSION:2.0
PRODID:-//chikkutakku.com//RDFCal 1.0//EN
X-WR-CALDESC:GoogleカレンダーやiCalendar形式情報を共有シェ
 アしましょう。近所のイベントから全国のイベントま
 で今日のイベント検索やスケジュールを決めるならち
 っくたっく
X-WR-CALNAME:ちっくたっく
X-WR-TIMEZONE:UTC
BEGIN:VEVENT
SUMMARY:【Android 対応】☕フリートーク雑談！ Cafe＆Bar The 
 Forest🍔  グループ：FOREST.8687
DTSTART;VALUE=DATE-TIME:20260422T140000Z
DTEND;VALUE=DATE-TIME:20260422T145900Z
UID:498490938071
DESCRIPTION:【イベント主催者】\n　「Forest.exe」「ネムア
 ムリ」「tato_edamame」\n【イベント内容】\n　●初めての
 方へ●\n最初に簡単なイベント説明をさせて頂きますの
 で、入口にて初参加であることを周辺にお伝えくださ
 い。\nすぐスタッフが対応いたしますのでお待ちくださ
 い。\n\n●ルール●\n以下のルールを遵守頂ければ基本
 的に自由となっております。\n・迷惑行為の禁止\n・雑
 談の妨害となるようなアバターを使用しない\n → 巨大
 アバター、サウンド付きアバター、大きな演出が出る
 アバターなど\n\n【イベントジャンル】\n　その他交流
 会\, VR飲み会\, 店舗系イベント\, 初心者向けイベント\, 
 定期イベント\n【参加条件（モデル、人数制限など）】
 \n　色々な方とお話、雑談を楽しみたい方\n【参加方法
 】\n　インスタンス形式はGroup+となっております。\nな
 お、1インスタンス20名が上限です。\n2名のスタッフが
 分かれて、2インスタンスで40名まで参加できるように
 なることもあります。\n\nVRCグループ：FOREST.8687  （自由
 に参加頂いてOKです）\n\n公式Twitter：Forest@VRC\nハッシュ
 タグ：#CafeandBarTheForest\n【備考】\n　◆23:00-23:55：自由に
 雑談\n◆23:55-：集合写真の撮影を行い、自由解散\n\nhttps
 ://twitter.com/Forest_VRC/status/1542108114740056065
LOCATION:
END:VEVENT
END:VCALENDAR
