BEGIN:VCALENDAR
VERSION:2.0
PRODID:-//chikkutakku.com//RDFCal 1.0//EN
X-WR-CALDESC:GoogleカレンダーやiCalendar形式情報を共有シェ
 アしましょう。近所のイベントから全国のイベントま
 で今日のイベント検索やスケジュールを決めるならち
 っくたっく
X-WR-CALNAME:ちっくたっく
X-WR-TIMEZONE:UTC
BEGIN:VEVENT
SUMMARY:Awana-Leader & LIT Appreciation Dinner
DTSTART;VALUE=DATE-TIME:20260504T020000Z
DTEND;VALUE=DATE-TIME:20260504T040000Z
UID:503900914509
DESCRIPTION:Awana Leaders &amp\; L.I.T.s: Please join us for an evening of
  fun fellowship\, good food\, and thoughtful discussions of the highs and 
 lows of the past AWANA year! When:  Sunday\, May 3 at 6:00pm Where: The
  Remillards’ home\, 22830 Eagle Glacier Loop\, Eagle River Who: All cur
 rent AWANA Leaders and L.I.T.s (No spouses or families\,please.  There’
 s not enough room!) Why?  Because we want to honor and thank you for all
  you’ve done to make it a great AWANA year for the children! You don’
 t need to bring anything!  Just yourselves\, your ideas\, and your good s
 pirits! Questions?  Contact Mike or Jenni Remillard\, mikejen.rem@outloo
 k.com or 907-854-8215.
LOCATION:Eagle River Grace\, 17850 Birchtree St\, Eagle River\, AK 99577\,
  USA
END:VEVENT
END:VCALENDAR
