BEGIN:VCALENDAR
VERSION:2.0
PRODID:-//chikkutakku.com//RDFCal 1.0//EN
X-WR-CALDESC:GoogleカレンダーやiCalendar形式情報を共有シェ
 アしましょう。近所のイベントから全国のイベントま
 で今日のイベント検索やスケジュールを決めるならち
 っくたっく
X-WR-CALNAME:ちっくたっく
X-WR-TIMEZONE:UTC
BEGIN:VEVENT
SUMMARY:トリオ・パンピリーニャ@赤坂G's Bar
DTSTART;VALUE=DATE:20260520
DTEND;VALUE=DATE:20260521
UID:517774781936
DESCRIPTION:スチール・パン奏者原田芳宏(Pan)を迎えてのト
 リオ・カイピリーニャ！この日はトリオ・パンピリー
 ニャ！\n二村希一(Pf)\n山村ﾙｰﾀﾝ隆一(B)\n井上ｲﾉﾔ
 ﾝ尚彦(Dr)\nゲスト/原田芳宏(Pan)\n赤坂G's Bar\n19:00OPEN/20:00
 スタート
LOCATION:G's bar\, 日本、〒107-0052 東京都港区赤坂２丁目１
 ５−１３
END:VEVENT
END:VCALENDAR
